Workbook
Name AcctSoftware: schedule18!$Q$7:$Q$39
Name adultfed: data!$R$8:$R$14997
Name adultstate: data!$V$8:$V$14997
Name cbprojreimb: reports!$C$55
Name circuitbreaker: data!$X$8:$X$14997
Name citytwn: data!$I$8:$I$14997
Name code436: calcmisc!$A$38:$E$476
Name day: data!$C$8:$C$14947
Name daypct: calcmisc!$E$16
Name daypctbud: calcmisc!$F$16
Name doefed: data!$Q$8:$Q$14997
Name doestate: data!$U$8:$U$14997
Name ESSERG: data!$O$8:$O$14997
Name ESSERI: data!$L$8:$L$14997
Name ESSERII: data!$M$8:$M$14997
Name ESSERIII: data!$N$8:$N$14997
Name GEER: data!$P$8:$P$14997
Name IDEA: data!$K$8:$K$14997
Name lines: data!$B$8:$B$14998
Name occday: data!$E$8:$E$14987
Name other: data!$F$632:$F$14997
Name otherfed: data!$S$8:$S$14997
Name otherreceipts: data!$AA$8:$AA$14997
Name otherstate: data!$W$8:$W$14997
Name Print_sch3_school: schedule3!$C$5:$AD$170
Name Print_sch3_total: schedule3_total!$A$5:$AB$170
Name Print_Titles_Expall: 'eoy24'!$A$1234:$O$1239
Name Print_Titles_Sch1: 'eoy24'!$A$9:$J$13
Name Print_Titles_Sch18: schedule18!$B$2:$H$6
Name Print_Titles_Sch19: 'eoy24'!$A$1093:$J$1097
Name Print_Titles_Sch19reg: 'eoy24'!$A$1198:$L$1202
Name Print_Titles_Sch19rev: 'eoy24'!$A$1179:$J$1183
Name Print_Titles_Sch1grnts: 'eoy24'!$A$541:$Q$546
Name Print_Titles_Sch1mun: 'eoy24'!$A$476:$J$480
Name Print_Titles_Sch1sc: 'eoy24'!$A$55:$J$59
Name Print_Titles_Sch2: 'eoy24'!$A$635:$J$638
Name Print_Titles_Sch20: schedule20!$C$9:$S$15
Name Print_Titles_Sch3grnts: 'eoy24'!$A$834:$O$839
Name Print_Titles_Sch3scct: 'eoy24'!$A$670:$K$674
Name Print_Titles_Sch4: 'eoy24'!$A$999:$M$1004
Name Print_Titles_Sch7: 'eoy24'!$A$1026:$M$1034
Name printall: 'eoy24'!$A$1:$O$1294
Name private: data!$Y$8:$Y$14997
Name projfacaid: calcmisc!$E$35
Name scadmin: calcmisc!$E$29
Name schchoice: data!$Z$8:$Z$14997
Name schcomm: data!$H$8:$H$14997
Name schools: schools!$B$2:$F$226
Name special: data!$D$8:$D$14947
Name TitleI: data!$J$8:$J$14997
Name totalexp: data!$T$8:$T$14997
Name undist: data!$G$632:$G$14997

Sheet comments
A1: Please feel free to include comments concerning anything you'd like School Business Services or School Finance to know about.
A2: We're especially interested in anything related to your thoughts about this year's file format and any clarifications concerning the data
A3: that your district has submitted.
A4: Please indicate your name and if you are a new School Business Offical
A5: Name:
A6: New SBO: | D6: If comment is related to edits, provide the edit number(s) here
A7: Comment added by: | B7: Date | C7: Comments
M814: 17 | N814: 18
G1063: 4 | H1063: 5 | I1063: 6
G1106: 4 | H1106: 5 | I1106: 6
G1146: 4 | H1146: 5 | I1146: 6

Sheet eoy24
C1: Copyright 2024 by Massachusetts Department of Elementary and Secondary Education. Permission is hereby granted to Massachusetts public school officials to
C2: to reproduce this document as needed to complete the 2023-2024 End of Year Financial Report. All other rights reserved.
A4: Massachusetts Department of Elementary and Secondary Education
A5: FY24 END OF YEAR FINANCIAL REPORT
C7: 162 | D7: Lunenburg | G7: For all related information go to: | H7: http://www.doe.mass.edu/finance/accounting/eoy/?fy=2024
C9: SCHEDULE 1 | E9: 1 | F9: 2 | G9: 3 | H9: 4 | I9: 5 | J9: 6
C10: REVENUE AND EXPENDITURE SUMMARY | H10: ADULT ED.
G11: CH 74 VOC- | H11: AND
E12: REGULAR | F12: SPECIAL | G12: ATIONAL/ | H12: OTHER | I12: UNDISTRIB-
C13: I. REVENUES | E13: DAY | F13: EDUCATION | G13: TECHNICAL | H13: PROGRAMS | I13: UTED | J13: TOTAL
A14: Row | C14: Line | D14: A. REVENUE FROM LOCAL SOURCES
A15: 15 | C15: 10 | D15: Assessments Received by Regional Schools | J15: =ROUND(I15,0) -> 0
A16: 16 | C16: 20 | D16: E & D Fund Appropriations FY23: Revenues to Regional District | J16: =ROUND(I16,0) -> 0
A17: 17 | C17: 30 | D17: Tuition From Individuals | J17: =ROUND(SUM(E17:I17),0) -> 0
A18: 18 | C18: 40 | D18: Tuition From Other Districts in Comm. | I18: 54487 | J18: =ROUND(SUM(E18:I18),0) -> 54487
A19: 19 | C19: 50 | D19: Tuition From Districts in Other States | J19: =ROUND(SUM(E19:I19),0) -> 0
A20: 20 | C20: 60 | D20: Previous Yr Unexpended Encumbrances (Carry Forward) | I20: 31705 | J20: =ROUND(I20,0) -> 31705
A21: 21 | C21: 70 | D21: Transportation Fees | J21: =ROUND(SUM(E21:I21),0) -> 0
A22: 22 | C22: 80 | D22: Earnings on Investments | J22: =ROUND(I22,0) -> 0
A23: 23 | C23: 90 | D23: Rental of School Facilities | I23: 80426.16 | J23: =ROUND(I23,0) -> 80426
A24: 24 | C24: 100 | D24: Other Revenue | I24: 4422 | J24: =ROUND(SUM(E24:I24),0) -> 4422
A25: 25 | C25: 101 | D25: Medical Care and Assistance | J25: =ROUND(F25,0) -> 0
A26: 26 | C26: 105 | D26: Non Revenue Receipts | J26: =ROUND(I26,0) -> 0
A27: 27 | C27: 110 | D27: TOTAL REVENUE FROM LOCAL SOURCES | E27: =ROUND(SUM(E17:E19)+E21+E24,0) -> 0 | F27: =ROUND(SUM(F17:F19)+F21+F24+F25,0) -> 0 | G27: =ROUND(SUM(G17:G19)+G21+G24,0) -> 0 | H27: =ROUND(SUM(H17:H19)+H21+H24,0) -> 0 | I27: =ROUND(SUM(I15:I24)+I26,0) -> 171040 | J27: =ROUND(SUM(E27:I27),0) -> 171040
D28: B. REVENUE FROM STATE AID | E28: ------------------------State aid is not reported by program -----------------------
A29: 29 | C29: 125 | D29: School Aid (Chapter 70) | I29: 8819128 | J29: =ROUND(I29,0) -> 8819128
A30: 30 | C30: 130 | D30: Mass. School Building Authority Construction Aid | E30: Contract | H30: Other | J30: =ROUND(F30+I30,0) -> 0
A31: 31 | C31: 140 | D31: Pupil Transportation (Ch. 71,71A,71B,74) | I31: 24914.75 | J31: =ROUND(I31,0) -> 24915
A32: 32 | C32: 170 | D32: Charter Tuition Reimbursements and Facilities Aid | E32: Charter Reimb | F32: 40755 | H32: Facilities | I32: 32765 | J32: =ROUND(F32+I32,0) -> 73520
A33: 33 | C33: 180 | D33: Circuit Breaker | I33: 401966 | J33: =ROUND(I33,0) -> 401966
A34: 34 | C34: 190 | D34: Foundation Reserve, State Impact Aid, and Regional Bonus Aid | I34: 0 | J34: =ROUND(I34,0) -> 0
A35: 35 | C35: 200 | D35: TOTAL REVENUE FROM STATE AID | J35: =ROUND(SUM(J29:J34),0) -> 9319529
D37: C. REVENUE FROM FEDERAL GRANTS
A38: 38 | C38: 300 | D38: DESE Administered Grants | E38: 220011 | F38: 612390.58 | G38: 0 | I38: 783650 | J38: =ROUND(SUM(E38:I38),0) -> 1616052
A39: 39 | C39: 481 | D39: Other Federal Grants | I39: 1878905 | J39: =ROUND(SUM(E39:I39),0) -> 1878905
A40: 40 | C40: 490 | D40: TOTAL REVENUE FEDERAL GRANTS | E40: =ROUND(E38+E39,0) -> 220011 | F40: =ROUND(F38+F39,0) -> 612391 | G40: =ROUND(G38+G39,0) -> 0 | H40: =ROUND(H38+H39,0) -> 0 | I40: =ROUND(I38+I39,0) -> 2662555 | J40: =ROUND(SUM(E40:I40),0) -> 3494957
D41: D. REVENUE FROM STATE GRANTS
A42: 42 | C42: 510 | D42: DESE Administered Grants | E42: 5200 | F42: 0 | G42: 0 | I42: 25000 | J42: =ROUND(SUM(E42:I42),0) -> 30200
A43: 43 | C43: 590 | D43: Other State Grants | J43: =ROUND(SUM(E43:I43),0) -> 0
A44: 44 | C44: 600 | D44: TOTAL REVENUE STATE GRANTS | E44: =ROUND(E42+E43,0) -> 5200 | F44: =ROUND(F42+F43,0) -> 0 | G44: =ROUND(G42+G43,0) -> 0 | H44: =ROUND(H42+H43,0) -> 0 | I44: =ROUND(I42+I43,0) -> 25000 | J44: =ROUND(SUM(E44:I44),0) -> 30200
...

Sheet reports
B8: FY24 Net School Spending | C8: School | D8: City or | I8: Was Retired Employee Health Insurance
B9: ='eoy24'!$C$7&" "&'eoy24'!$D$7 -> 162 Lunenburg | C9: Committee | D9: Town | F9: Total | I9: Included in Schedule 19
A10: 10 | B10: 1. Administration (1000) | C10: =ROUND(daypct*scadmin,0)+SUM('eoy24'!E119:'eoy24'!G119) -> 931865 | D10: 225987 | E10: <FY24 Budget | F10: =ROUND(C10+D10,0) -> 1157852 | I10: of the FY93 End-of-Year Report?
A11: 11 | B11: 2. Instruction (2000) | C11: =ROUND(SUM('eoy24'!E831:'eoy24'!G831)+'eoy24'!I831,0) -> 13665266 | D11: 0 | E11: <FY24 Budget | F11: =ROUND(C11+D11,0) -> 13665266
A12: 12 | B12: 3. Attendance-Health (3100, 3200) | C12: ='eoy24'!J288+'eoy24'!J296 -> 248493 | D12: 0 | E12: <FY24 Budget | F12: =ROUND(C12+D12,0) -> 248493 | I12: YES------------- | J12: X
A13: 13 | B13: 4. Food Services (3400) | C13: =ROUND('eoy24'!J306+'eoy24'!J307+'eoy24'!J308+'eoy24'!J309+'eoy24'!J311,0) -> 0 | F13: =ROUND(C13+D13,0) -> 0 | I13: NO --------------
A14: 14 | B14: 5. Athletics/Student Activities/ Security (3500,3600) | C14: =ROUND('eoy24'!J320+'eoy24'!J328+'eoy24'!J336,0) -> 311856 | D14: =ROUND('eoy24'!J491*daypct,0) -> 0 | F14: =ROUND(C14+D14,0) -> 311856
A15: 15 | B15: 6. Maintenance (4000) | C15: =ROUND(('eoy24'!J344+'eoy24'!J349+'eoy24'!J354+'eoy24'!J362+'eoy24'!J370+'eoy24'!J375+'eoy24'!J383+'eoy24'!J388+'eoy24'!J393+'eoy24'!J398)*daypct,0) -> 2171968 | D15: 300714 | E15: <FY24 Budget | F15: =ROUND(C15+D15,0) -> 2472682
A16: 16 | B16: 7. Employee Benefits (5100) | C16: =ROUND(('eoy24'!J400+'eoy24'!J406)*daypct,0) -> 0 | D16: =ROUND(('eoy24'!J502+'eoy24'!J508)*daypct,0) -> 359049 | F16: =ROUND(C16+D16,0) -> 359049 | I16: Carryforward | J16: ='eoy24'!J20 -> 31705
A17: 17 | B17: 8. Insurance (5200) | C17: =ROUND(('eoy24'!J408+'eoy24'!J410)*daypct,0) -> 242505 | D17: =ROUND(('eoy24'!J509+'eoy24'!J511)*daypct,0) -> 242505 | F17: =ROUND(C17+D17,0) -> 485010 | I17: Total Required NSS FY23 | J17: 20056630
A18: 18 | B18: 9. Retired Employee Insurance (5250) | C18: =IF($J$12="X",ROUND(daypct*'eoy24'!J409,0),ROUND(0.7*(daypct*'eoy24'!J409),0)) -> 1221146 | D18: =IF($J$12="X",ROUND(daypct*'eoy24'!J510,0),ROUND(0.7*(daypct*'eoy24'!J510),0)) -> 1221146 | F18: =ROUND(C18+D18,0) -> 2442292 | I18: Actual NSS FY23 | J18: 24273713
A19: 19 | B19: 10. Rentals (5300) | C19: =ROUND(('eoy24'!J413+'eoy24'!J414)*daypct,0) -> 0 | D19: 0 | E19: <FY24 Budget | F19: =ROUND(C19+D19,0) -> 0 | I19: Amt Over/Under | J19: =J18-J17 -> 4217082.8
A20: 20 | B20: 11. Short Term Interest RAN's (5400) | C20: =ROUND(('eoy24'!J415)*daypct,0) -> 0 | D20: =ROUND('eoy24'!J514*daypct,0) -> 0 | F20: =ROUND(C20+D20,0) -> 0 | I20: New Amount Over/Under | J20: =J19-J16 -> 4185377.8
A21: 21 | B21: 12. Tuition (9000) | C21: =ROUND(SUM('eoy24'!E472:'eoy24'!G472),0)-IF(VALUE('eoy24'!C7)>352,'eoy24'!I32,0) -> 588508 | D21: =ROUND(SUM('eoy24'!E537:'eoy24'!G537),0)-IF(VALUE('eoy24'!C7)<400,'eoy24'!I32,0) -> 805945 | F21: =ROUND(C21+D21,0) -> 1394453 | I21: Allowable Carryforward | J21: =IF(J20<0,MIN(ABS(J20),J16),0) -> 0
A22: 22 | B22: 13. Total School Spending (1 through 12) | C22: =SUM(C10:C21) -> 19381607 | D22: =SUM(D10:D21) -> 3155346 | F22: =ROUND(C22+D22,0) -> 22536953 | I22: SC Revenues Budgeted for FY24 | J22: 0
A23: 23 | B23: 14. School Revenues
A24: 24 | B24: 14a) FY24 School Revenues | C24: =J21+J22 -> 0 | E24: <FY24 Budget | F24: =C24+D24 -> 0
A25: 25 | B25: 14b) FY24 Charter Reimbursement | D25: 40755 | F25: =D25 -> 40755
A26: 26 | B26: 14c) Subtotal, School Revenues (14a+14b) | C26: =C24 -> 0 | D26: =D24+D25 -> 40755 | F26: =C26+D26 -> 40755
A27: 27
A28: 28 | B28: 15. Net School Spending (13 - 14c) | C28: =IF(C22-C26>0,C22-C26,0) -> 19381607 | D28: =IF(D22-D26>0,D22-D26,0) -> 3114591 | F28: =IF(F22-F26>0,F22-F26,0) -> 22496198
A29: 29 | B29: 16. FY24 Required Net School Spending | F29: 20730114
A30: 30 | B30: 17. FY23 Carry-Over Into FY24 | F30: 0
A31: 31 | B31: 18. Total FY24 Requirement (16 + 17) | F31: =F30+F29 -> 20730114
A32: 32 | B32: 19. Unexpended Net School Spending (18 - 15) | F32: =IF(F28<F31,F31-F28,0) -> 0
A33: 33 | B33: 20. Percent Unexpended (19 / 16) | F33: =IF(F29>0,ROUND(F32/F29,4),0) -> 0
A34: 34 | B34: 21. FY24 Carry-Over (19 or 5% of 16 if 20 > 5%) | F34: =IF(F33<=0.05,F32,ROUND(0.05*F29,0)) -> 0
A35: 35 | B35: 22. Penalty (19 - 21) | F35: =MAX(F32-F34,0) -> 0
B38: FY25 Budgeted Net School Spending | C38: School | D38: City or
B39: ='eoy24'!$C$7&" "&'eoy24'!$D$7 -> 162 Lunenburg | C39: Committee | D39: Town | E39: Total
A40: 40 | B40: 23. Administration (1000) | C40: =ROUND('eoy24'!J1099*daypctbud,0) -> 937441 | D40: =ROUND('eoy24'!J1144*daypctbud,0) -> 0 | E40: =ROUND(C40+D40,0) -> 937441
A41: 41 | B41: 24. Instruction (2000) | C41: =ROUND(SUM('eoy24'!E1100:'eoy24'!G1100)+'eoy24'!I1100,0) -> 15429212 | D41: ='eoy24'!J1145 -> 0 | E41: =ROUND(C41+D41,0) -> 15429212
A42: 42 | B42: 25. Attendance-Health (3100, 3200) | C42: ='eoy24'!J1101 -> 285010 | D42: ='eoy24'!J1146 -> 0 | E42: =ROUND(C42+D42,0) -> 285010
A43: 43 | B43: 26. Food Services (3400) | C43: ='eoy24'!J1103 -> 0 | E43: =ROUND(C43+D43,0) -> 0
A44: 44 | B44: 27. Athletics/Student Activities/ Security (3500,3600) | C44: ='eoy24'!J1104+'eoy24'!J1105 -> 260280 | D44: =ROUND('eoy24'!J1148,0) -> 0 | E44: =ROUND(C44+D44,0) -> 260280
A45: 45 | B45: 28. Maintenance (4000) | C45: =ROUND(('eoy24'!J1106+'eoy24'!J1107)*daypctbud,0) -> 1864536 | D45: =ROUND(('eoy24'!J1149+'eoy24'!J1150)*daypctbud,0) -> 0 | E45: =ROUND(C45+D45,0) -> 1864536
A46: 46 | B46: 29. Employee Benefits (5100) | C46: =ROUND(('eoy24'!J1108+'eoy24'!J1109)*daypctbud,0) -> 0 | D46: =ROUND(('eoy24'!J1151+'eoy24'!J1152)*daypctbud,0) -> 20000 | E46: =ROUND(C46+D46,0) -> 20000
A47: 47 | B47: 30. Insurance (5200) | C47: =ROUND(('eoy24'!J1110+'eoy24'!J1112)*daypctbud,0) -> 3110838 | D47: =ROUND(('eoy24'!J1153+'eoy24'!J1155)*daypctbud,0) -> 0 | E47: =ROUND(C47+D47,0) -> 3110838
A48: 48 | B48: 31. Retired Employee Insurance (5250) | C48: =IF($J$12="X",ROUND(daypctbud*'eoy24'!J1111,0),ROUND(0.8*(daypctbud*'eoy24'!J1111),0)) -> 0 | D48: =IF($J$12="X",ROUND(daypctbud*'eoy24'!J1154,0),ROUND(0.8*(daypctbud*'eoy24'!J1154),0)) -> 450000 | E48: =ROUND(C48+D48,0) -> 450000
A49: 49 | B49: 32. Rentals (5300) | C49: =ROUND('eoy24'!J1113*daypctbud,0) -> 0 | D49: =ROUND('eoy24'!J1156*daypctbud,0) -> 0 | E49: =ROUND(C49+D49,0) -> 0
...

Sheet edits
B4: This edit page consists of a review of the internal consistency of the information on your report.
B5: To run the edits, hit the "run edit program" button.
B6: Please review the areas checked and make corrections to the "eoy24" sheet where necessary.
B7: If you feel the data as reported are justified, but an edit continues to be displayed, please explain
B8: in the "comments" sheet. Thanks for your attention to these questions -- your efforts here
B9: make the editing process a lot simpler, and give you the chance to let DESE know about special
B10: situations that you think justify what would otherwise be deemed to be an error.
C12: LEA | D12: ='eoy24'!C7 -> 162
C13: District | D13: ='eoy24'!D7 -> Lunenburg | H13: =TODAY() -> 45820
A16: =IF(SUM(A$24:A$26)>0, 1,0) -> 0
A17: =IF(SUM(A$24:A$26)>0, 1,0) -> 0 | B17: Edit 1: Correspondence of General Fund Transportation Fees and Expenditures and Sch 7 Expenditures
A18: =IF(SUM(A$24:A$26)>0, 1,0) -> 0
A19: =IF(A$24>0, 1,0) -> 0 | C19: Non-reimburseable transportation expenditures reported on Sch 7 line 4000
A20: =IF(A$24>0, 1,0) -> 0 | C20: must equal or exceed general fund transportation fees on Sch 1 line 70
A21: =IF(SUM(A$24:A$26)>0, 1,0) -> 0
A22: =IF(SUM(A$24:A$26)>0, 1,0) -> 0 | C22: Sch 1 Transportation Fees and Expenditures | G22: Sch 7 Pupil Transportation
A23: =IF(SUM(A$24:A$26)>0, 1,0) -> 0 | C23: Line | D23: Column | E23: Entry | G23: Line | H23: Column | I23: Entry
A24: =IF((E24-I24)>100,1,0) -> 0 | C24: 70 | D24: 1 - Fees Regular Day | E24: ='eoy24'!E21 -> 0 | F24: > | G24: 4000 | H24: 3 - Reg Day<1.5 | I24: ='eoy24'!G1036 -> 150000
A25: =IF((E25-I25)>100,1,0) -> 0 | C25: see formula | D25: 1 - Expenditures Regular Day | E25: ='eoy24'!E304+'eoy24'!E490 -> 917525 | F25: <> | G25: see formula | H25: 5- Total | I25: =('eoy24'!I1039+'eoy24'!I1077+'eoy24'!I1078+'eoy24'!I1080+'eoy24'!I1081+'eoy24'!I1082+'eoy24'!I1083)-('eoy24'!H1039+'eoy24'!H1077+'eoy24'!H1078+'eoy24'!H1080+'eoy24'!H1081+'eoy24'!H1082+'eoy24'!H1083) -> 917525
A26: =IF((E26-I26)>100,1,0) -> 0 | C26: 2930 | D26: col 7-11 Payments from Revolving and Special Funds | E26: =SUM('eoy24'!L589:'eoy24'!P589) -> 0 | F26: <> | G26: 4320 | H26: 5- Payments from Revolving and Special Funds | I26: ='eoy24'!I1088 -> 0
A27: =IF(SUM(A$31:A$80)>0,1,0) -> 0
A28: =IF(SUM(A$31:A$80)>0,1,0) -> 0 | B28: Edit 2: Correspondence of Riders Transported and Transportation Expenditures
A29: =IF(SUM(A$31:A$80)>0,1,0) -> 0 | C29: Schedule 7 Expenditures | G29: Schedule 7 Riders
A30: =IF(SUM(A$31:A$80)>0,1,0) -> 0 | C30: Line | D30: Column | E30: Entry | G30: Line | H30: Column | I30: Entry
A31: =IF(OR(AND(E31>0,I31=0),AND(I31>0,E31=0)),1,0) -> 0 | C31: 4000 | D31: 1 - School Trans Vehicle | E31: ='eoy24'!E1036 -> 767525 | G31: 4000 | H31: 6 - School Trans Vehicle | I31: ='eoy24'!J1036 -> 950
A32: =IF(OR(AND(E32>0,I32=0),AND(I32>0,E32=0)),1,0) -> 0 | C32: 4000 | D32: 2 - Public Utilities | E32: ='eoy24'!F1036 -> 0 | G32: 4000 | H32: 7 - Public Utilities | I32: ='eoy24'!K1036 -> 0
A33: =IF(OR(AND(E33>0,I33=0),AND(I33>0,E33=0)),1,0) -> 0 | C33: 4000 | D33: 3 - Non-Reimburseable | E33: ='eoy24'!G1036 -> 150000 | G33: 4000 | H33: 8 - Non-Reimburseable | I33: ='eoy24'!L1036 -> 190
A34: =IF(OR(AND(E34>0,I34=0),AND(I34>0,E34=0)),1,0) -> 0 | C34: 4010 | D34: 1 - School Trans Vehicle | E34: ='eoy24'!E1037 -> 0 | G34: 4010 | H34: 6 - School Trans Vehicle | I34: ='eoy24'!J1037 -> 0
A35: =IF(OR(AND(E35>0,I35=0),AND(I35>0,E35=0)),1,0) -> 0 | C35: 4010 | D35: 2 - Public Utilities | E35: ='eoy24'!F1037 -> 0 | G35: 4010 | H35: 7 - Public Utilities | I35: ='eoy24'!K1037 -> 0
A36: =IF(OR(AND(E36>0,I36=0),AND(I36>0,E36=0)),1,0) -> 0 | C36: 4010 | D36: 3 - Non-Reimburseable | E36: ='eoy24'!G1037 -> 0 | G36: 4010 | H36: 8 - Non-Reimburseable | I36: ='eoy24'!L1037 -> 0
A37: =IF(OR(AND(E37>0,I37=0),AND(I37>0,E37=0)),1,0) -> 0 | C37: 4020 | D37: 1 - School Trans Vehicle | E37: ='eoy24'!E1038 -> 0 | G37: 4020 | H37: 6 - School Trans Vehicle | I37: ='eoy24'!J1038 -> 0
A38: =IF(OR(AND(E38>0,I38=0),AND(I38>0,E38=0)),1,0) -> 0 | C38: 4020 | D38: 2 - Public Utilities | E38: ='eoy24'!F1038 -> 0 | G38: 4020 | H38: 7 - Public Utilities | I38: ='eoy24'!K1038 -> 0
A39: =IF(OR(AND(E39>0,I39=0),AND(I39>0,E39=0)),1,0) -> 0 | C39: 4020 | D39: 3 - Non-Reimburseable | E39: ='eoy24'!G1038 -> 0 | G39: 4020 | H39: 8 - Non-Reimburseable | I39: ='eoy24'!L1038 -> 0
A40: =IF(OR(AND(E40>0,I40=0),AND(I40>0,E40=0)),1,0) -> 0 | C40: 4070 | D40: 1 - Special Ed Expenditures | E40: ='eoy24'!E1043 -> 0 | G40: 4070 | H40: 6 - Special Ed Riders | I40: ='eoy24'!J1043 -> 0
A41: =IF(OR(AND(E41>0,I41=0),AND(I41>0,E41=0)),1,0) -> 0 | C41: 4070 | D41: 2 - Special Ed Expenditures | E41: ='eoy24'!F1043 -> 15267 | G41: 4070 | H41: 7 - Special Ed Riders | I41: ='eoy24'!K1043 -> 4
A42: =IF(OR(AND(E42>0,I42=0),AND(I42>0,E42=0)),1,0) -> 0 | C42: 4080 | D42: 1 - Special Ed Expenditures | E42: ='eoy24'!E1044 -> 0 | G42: 4080 | H42: 6 - Special Ed Riders | I42: ='eoy24'!J1044 -> 0
A43: =IF(OR(AND(E43>0,I43=0),AND(I43>0,E43=0)),1,0) -> 0 | C43: 4080 | D43: 2 - Special Ed Expenditures | E43: ='eoy24'!F1044 -> 148593 | G43: 4080 | H43: 7 - Special Ed Riders | I43: ='eoy24'!K1044 -> 27
A44: =IF(OR(AND(E44>0,I44=0),AND(I44>0,E44=0)),1,0) -> 0 | C44: 4110 | D44: 1 - Special Ed Expenditures | E44: ='eoy24'!E1045 -> 0 | G44: 4110 | H44: 6 - Special Ed Riders | I44: ='eoy24'!J1045 -> 0
A45: =IF(OR(AND(E45>0,I45=0),AND(I45>0,E45=0)),1,0) -> 0 | C45: 4110 | D45: 2 - Special Ed Expenditures | E45: ='eoy24'!F1045 -> 92853 | G45: 4110 | H45: 7 - Special Ed Riders | I45: ='eoy24'!K1045 -> 7
A46: =IF(OR(AND(E46>0,I46=0),AND(I46>0,E46=0)),1,0) -> 0 | C46: 4120 | D46: 1 - Special Ed Expenditures | E46: ='eoy24'!E1046 -> 0 | G46: 4120 | H46: 6 - Special Ed Riders | I46: ='eoy24'!J1046 -> 0
...

Sheet schedule3_total
A8: 2023-2024 End of Year Pupil and Financial Report | C8: 1 | D8: 2 | E8: 3 | F8: 4 | G8: 5 | H8: 6 | I8: 7 | J8: 8 | K8: 9 | L8: 10 | M8: 11 | N8: 12 | O8: 13 | P8: 14 | Q8: 15 | R8: 16 | S8: 17 | T8: 18 | U8: 19 | V8: 20 | W8: 21 | X8: 22 | Y8: 23 | Z8: 24 | AA8: 25 | AB8: 26
A9: Schedule 3 District Total | J9: FEDERAL GRANTS | U9: STATE GRANTS | X9: REVOLVING AND SPECIAL REVENUE FUNDS
F10: Adult Ed. | Q10: Other | R10: DESE | V10: DESE | Z10: School | AB10: Total
E11: Chapter 74 | F11: And | H11: Total | O11: ESSER | Q11: DESE | R11: Administered | U11: DESE | V11: Administered | W11: Other | Z11: Choice and | AA11: Other | AB11: Expenditures
C12: Regular | D12: Special | E12: Vocational/ | F12: Other | H12: School | I12: City/Town | J12: Title I | K12: IDEA | L12: ESSER I | M12: ESSER II | N12: ESSER III | O12: SEA | Q12: Administered | R12: Federal | S12: Other | U12: Administered | V12: State | W12: State | X12: Circuit | Y12: Private | Z12: Other | AA12: Local | AB12: All
C13: Day | D13: Education | E13: Technical | F13: Programs | G13: Undistributed | H13: Committee | I13: Appropriation | J13: FC 305 | K13: FC 240 | L13: FC 113 | M13: FC 115 | N13: FC 119 | O13: Reserve | P13: GEER | Q13: Federal | R13: Adult Ed. | S13: Federal | T13: Blank | U13: State | V13: Adult Ed. | W13: Grants | X13: Breaker | Y13: Grants | Z13: Tuition | AA13: Receipts | AB13: Funds
A14: Line | B14: Curriculum Directors and Department Heads (Supervisory) (2110)
A15: 3401 | B15: Professional Salaries (01) | C15: =SUMIF(lines,$A15,day) -> 121000 | D15: =SUMIF(lines,$A15,special) -> 142900 | E15: =SUMIF(lines,$A15,occday) -> 0 | F15: =SUMIF(lines,$A15,other) -> 0 | H15: =ROUND(SUM(C15:F15),0) -> 263900 | J15: =SUMIF(lines,$A15,TitleI) -> 0 | K15: =SUMIF(lines,$A15,IDEA) -> 0 | L15: =SUMIF(lines,$A15,ESSERI) -> 0 | M15: =SUMIF(lines,$A15,ESSERII) -> 0 | N15: =SUMIF(lines,$A15,ESSERIII) -> 0 | O15: =SUMIF(lines,$A15,ESSERG) -> 0 | P15: =SUMIF(lines,$A15,GEER) -> 0 | Q15: =SUMIF(lines,$A15,doefed) -> 0 | R15: =SUMIF(lines,$A15,adultfed) -> 0 | S15: =SUMIF(lines,$A15,otherfed) -> 0 | U15: =SUMIF(lines,$A15,doestate) -> 0 | V15: =SUMIF(lines,$A15,adultstate) -> 0 | W15: =SUMIF(lines,$A15,otherstate) -> 0 | X15: =SUMIF(lines,$A15,circuitbreaker) -> 0 | Y15: =SUMIF(lines,$A15,private) -> 0 | Z15: =SUMIF(lines,$A15,schchoice) -> 0 | AA15: =SUMIF(lines,$A15,otherreceipts) -> 0 | AB15: =ROUND(SUM(H15:AA15),0) -> 263900
A16: 3402 | B16: Clerical Salaries (02) | C16: =SUMIF(lines,$A16,day) -> 0 | D16: =SUMIF(lines,$A16,special) -> 57351 | E16: =SUMIF(lines,$A16,occday) -> 0 | F16: =SUMIF(lines,$A16,other) -> 0 | H16: =ROUND(SUM(C16:F16),0) -> 57351 | J16: =SUMIF(lines,$A16,TitleI) -> 0 | K16: =SUMIF(lines,$A16,IDEA) -> 0 | L16: =SUMIF(lines,$A16,ESSERI) -> 0 | M16: =SUMIF(lines,$A16,ESSERII) -> 0 | N16: =SUMIF(lines,$A16,ESSERIII) -> 0 | O16: =SUMIF(lines,$A16,ESSERG) -> 0 | P16: =SUMIF(lines,$A16,GEER) -> 0 | Q16: =SUMIF(lines,$A16,doefed) -> 0 | R16: =SUMIF(lines,$A16,adultfed) -> 0 | S16: =SUMIF(lines,$A16,otherfed) -> 0 | U16: =SUMIF(lines,$A16,doestate) -> 0 | V16: =SUMIF(lines,$A16,adultstate) -> 0 | W16: =SUMIF(lines,$A16,otherstate) -> 0 | X16: =SUMIF(lines,$A16,circuitbreaker) -> 0 | Y16: =SUMIF(lines,$A16,private) -> 0 | Z16: =SUMIF(lines,$A16,schchoice) -> 0 | AA16: =SUMIF(lines,$A16,otherreceipts) -> 0 | AB16: =ROUND(SUM(H16:AA16),0) -> 57351
A17: 3403 | B17: Other Salaries (03) | C17: =SUMIF(lines,$A17,day) -> 0 | D17: =SUMIF(lines,$A17,special) -> 0 | E17: =SUMIF(lines,$A17,occday) -> 0 | F17: =SUMIF(lines,$A17,other) -> 0 | H17: =ROUND(SUM(C17:F17),0) -> 0 | J17: =SUMIF(lines,$A17,TitleI) -> 0 | K17: =SUMIF(lines,$A17,IDEA) -> 0 | L17: =SUMIF(lines,$A17,ESSERI) -> 0 | M17: =SUMIF(lines,$A17,ESSERII) -> 0 | N17: =SUMIF(lines,$A17,ESSERIII) -> 0 | O17: =SUMIF(lines,$A17,ESSERG) -> 0 | P17: =SUMIF(lines,$A17,GEER) -> 0 | Q17: =SUMIF(lines,$A17,doefed) -> 0 | R17: =SUMIF(lines,$A17,adultfed) -> 0 | S17: =SUMIF(lines,$A17,otherfed) -> 0 | U17: =SUMIF(lines,$A17,doestate) -> 0 | V17: =SUMIF(lines,$A17,adultstate) -> 0 | W17: =SUMIF(lines,$A17,otherstate) -> 0 | X17: =SUMIF(lines,$A17,circuitbreaker) -> 0 | Y17: =SUMIF(lines,$A17,private) -> 0 | Z17: =SUMIF(lines,$A17,schchoice) -> 0 | AA17: =SUMIF(lines,$A17,otherreceipts) -> 0 | AB17: =ROUND(SUM(H17:AA17),0) -> 0
A18: 3404 | B18: Contracted Services (04) | C18: =SUMIF(lines,$A18,day) -> 0 | D18: =SUMIF(lines,$A18,special) -> 29483 | E18: =SUMIF(lines,$A18,occday) -> 0 | F18: =SUMIF(lines,$A18,other) -> 0 | H18: =ROUND(SUM(C18:F18),0) -> 29483 | J18: =SUMIF(lines,$A18,TitleI) -> 0 | K18: =SUMIF(lines,$A18,IDEA) -> 0 | L18: =SUMIF(lines,$A18,ESSERI) -> 0 | M18: =SUMIF(lines,$A18,ESSERII) -> 0 | N18: =SUMIF(lines,$A18,ESSERIII) -> 0 | O18: =SUMIF(lines,$A18,ESSERG) -> 0 | P18: =SUMIF(lines,$A18,GEER) -> 0 | Q18: =SUMIF(lines,$A18,doefed) -> 0 | R18: =SUMIF(lines,$A18,adultfed) -> 0 | S18: =SUMIF(lines,$A18,otherfed) -> 0 | U18: =SUMIF(lines,$A18,doestate) -> 0 | V18: =SUMIF(lines,$A18,adultstate) -> 0 | W18: =SUMIF(lines,$A18,otherstate) -> 0 | X18: =SUMIF(lines,$A18,circuitbreaker) -> 0 | Y18: =SUMIF(lines,$A18,private) -> 0 | Z18: =SUMIF(lines,$A18,schchoice) -> 0 | AA18: =SUMIF(lines,$A18,otherreceipts) -> 0 | AB18: =ROUND(SUM(H18:AA18),0) -> 29483
A19: 3405 | B19: Supplies and Materials (05) | C19: =SUMIF(lines,$A19,day) -> 32287 | D19: =SUMIF(lines,$A19,special) -> 25612.17 | E19: =SUMIF(lines,$A19,occday) -> 0 | F19: =SUMIF(lines,$A19,other) -> 0 | H19: =ROUND(SUM(C19:F19),0) -> 57899 | J19: =SUMIF(lines,$A19,TitleI) -> 0 | K19: =SUMIF(lines,$A19,IDEA) -> 0 | L19: =SUMIF(lines,$A19,ESSERI) -> 0 | M19: =SUMIF(lines,$A19,ESSERII) -> 0 | N19: =SUMIF(lines,$A19,ESSERIII) -> 0 | O19: =SUMIF(lines,$A19,ESSERG) -> 0 | P19: =SUMIF(lines,$A19,GEER) -> 0 | Q19: =SUMIF(lines,$A19,doefed) -> 0 | R19: =SUMIF(lines,$A19,adultfed) -> 0 | S19: =SUMIF(lines,$A19,otherfed) -> 0 | U19: =SUMIF(lines,$A19,doestate) -> 0 | V19: =SUMIF(lines,$A19,adultstate) -> 0 | W19: =SUMIF(lines,$A19,otherstate) -> 0 | X19: =SUMIF(lines,$A19,circuitbreaker) -> 0 | Y19: =SUMIF(lines,$A19,private) -> 0 | Z19: =SUMIF(lines,$A19,schchoice) -> 0 | AA19: =SUMIF(lines,$A19,otherreceipts) -> 0 | AB19: =ROUND(SUM(H19:AA19),0) -> 57899
A20: 3406 | B20: Other Expenses (06) | C20: =SUMIF(lines,$A20,day) -> 0 | D20: =SUMIF(lines,$A20,special) -> 0 | E20: =SUMIF(lines,$A20,occday) -> 0 | F20: =SUMIF(lines,$A20,other) -> 0 | H20: =ROUND(SUM(C20:F20),0) -> 0 | J20: =SUMIF(lines,$A20,TitleI) -> 0 | K20: =SUMIF(lines,$A20,IDEA) -> 0 | L20: =SUMIF(lines,$A20,ESSERI) -> 0 | M20: =SUMIF(lines,$A20,ESSERII) -> 0 | N20: =SUMIF(lines,$A20,ESSERIII) -> 0 | O20: =SUMIF(lines,$A20,ESSERG) -> 0 | P20: =SUMIF(lines,$A20,GEER) -> 0 | Q20: =SUMIF(lines,$A20,doefed) -> 0 | R20: =SUMIF(lines,$A20,adultfed) -> 0 | S20: =SUMIF(lines,$A20,otherfed) -> 0 | U20: =SUMIF(lines,$A20,doestate) -> 0 | V20: =SUMIF(lines,$A20,adultstate) -> 0 | W20: =SUMIF(lines,$A20,otherstate) -> 0 | X20: =SUMIF(lines,$A20,circuitbreaker) -> 0 | Y20: =SUMIF(lines,$A20,private) -> 0 | Z20: =SUMIF(lines,$A20,schchoice) -> 0 | AA20: =SUMIF(lines,$A20,otherreceipts) -> 0 | AB20: =ROUND(SUM(H20:AA20),0) -> 0
A21: 3409 | B21: Sub-total | C21: =ROUND(SUM(C15:C20),0) -> 153287 | D21: =ROUND(SUM(D15:D20),0) -> 255346 | E21: =ROUND(SUM(E15:E20),0) -> 0 | F21: =ROUND(SUM(F15:F20),0) -> 0 | H21: =ROUND(SUM(C21:F21),0) -> 408633 | J21: =ROUND(SUM(J15:J20),0) -> 0 | K21: =ROUND(SUM(K15:K20),0) -> 0 | L21: =ROUND(SUM(L15:L20),0) -> 0 | M21: =ROUND(SUM(M15:M20),0) -> 0 | N21: =ROUND(SUM(N15:N20),0) -> 0 | O21: =ROUND(SUM(O15:O20),0) -> 0 | P21: =ROUND(SUM(P15:P20),0) -> 0 | Q21: =ROUND(SUM(Q15:Q20),0) -> 0 | ... S21: =ROUND(SUM(S15:S20),0) -> 0 | U21: =ROUND(SUM(U15:U20),0) -> 0 | V21: =ROUND(SUM(V15:V20),0) -> 0 | W21: =ROUND(SUM(W15:W20),0) -> 0 | X21: =ROUND(SUM(X15:X20),0) -> 0 | Y21: =ROUND(SUM(Y15:Y20),0) -> 0 | Z21: =ROUND(SUM(Z15:Z20),0) -> 0 | AA21: =ROUND(SUM(AA15:AA20),0) -> 0 | AB21: =ROUND(SUM(H21:AA21),0) -> 408633
B22: Curriculum Directors and Department Heads (Non-Supervisory) (2120)
A23: 3411 | B23: Professional Salaries (01) | C23: =SUMIF(lines,$A23,day) -> 0 | D23: =SUMIF(lines,$A23,special) -> 0 | E23: =SUMIF(lines,$A23,occday) -> 0 | F23: =SUMIF(lines,$A23,other) -> 0 | H23: =ROUND(SUM(C23:F23),0) -> 0 | J23: =SUMIF(lines,$A23,TitleI) -> 0 | K23: =SUMIF(lines,$A23,IDEA) -> 0 | L23: =SUMIF(lines,$A23,ESSERI) -> 0 | M23: =SUMIF(lines,$A23,ESSERII) -> 0 | N23: =SUMIF(lines,$A23,ESSERIII) -> 0 | O23: =SUMIF(lines,$A23,ESSERG) -> 0 | P23: =SUMIF(lines,$A23,GEER) -> 0 | Q23: =SUMIF(lines,$A23,doefed) -> 0 | R23: =SUMIF(lines,$A23,adultfed) -> 0 | S23: =SUMIF(lines,$A23,otherfed) -> 0 | U23: =SUMIF(lines,$A23,doestate) -> 0 | V23: =SUMIF(lines,$A23,adultstate) -> 0 | W23: =SUMIF(lines,$A23,otherstate) -> 0 | X23: =SUMIF(lines,$A23,circuitbreaker) -> 0 | Y23: =SUMIF(lines,$A23,private) -> 0 | Z23: =SUMIF(lines,$A23,schchoice) -> 0 | AA23: =SUMIF(lines,$A23,otherreceipts) -> 0 | AB23: =ROUND(SUM(H23:AA23),0) -> 0
A24: 3412 | B24: Clerical Salaries (02) | C24: =SUMIF(lines,$A24,day) -> 0 | D24: =SUMIF(lines,$A24,special) -> 0 | E24: =SUMIF(lines,$A24,occday) -> 0 | F24: =SUMIF(lines,$A24,other) -> 0 | H24: =ROUND(SUM(C24:F24),0) -> 0 | J24: =SUMIF(lines,$A24,TitleI) -> 0 | K24: =SUMIF(lines,$A24,IDEA) -> 0 | L24: =SUMIF(lines,$A24,ESSERI) -> 0 | M24: =SUMIF(lines,$A24,ESSERII) -> 0 | N24: =SUMIF(lines,$A24,ESSERIII) -> 0 | O24: =SUMIF(lines,$A24,ESSERG) -> 0 | P24: =SUMIF(lines,$A24,GEER) -> 0 | Q24: =SUMIF(lines,$A24,doefed) -> 0 | R24: =SUMIF(lines,$A24,adultfed) -> 0 | S24: =SUMIF(lines,$A24,otherfed) -> 0 | U24: =SUMIF(lines,$A24,doestate) -> 0 | V24: =SUMIF(lines,$A24,adultstate) -> 0 | W24: =SUMIF(lines,$A24,otherstate) -> 0 | X24: =SUMIF(lines,$A24,circuitbreaker) -> 0 | Y24: =SUMIF(lines,$A24,private) -> 0 | Z24: =SUMIF(lines,$A24,schchoice) -> 0 | AA24: =SUMIF(lines,$A24,otherreceipts) -> 0 | AB24: =ROUND(SUM(H24:AA24),0) -> 0
A25: 3413 | B25: Other Salaries (03) | C25: =SUMIF(lines,$A25,day) -> 0 | D25: =SUMIF(lines,$A25,special) -> 0 | E25: =SUMIF(lines,$A25,occday) -> 0 | F25: =SUMIF(lines,$A25,other) -> 0 | H25: =ROUND(SUM(C25:F25),0) -> 0 | J25: =SUMIF(lines,$A25,TitleI) -> 0 | K25: =SUMIF(lines,$A25,IDEA) -> 0 | L25: =SUMIF(lines,$A25,ESSERI) -> 0 | M25: =SUMIF(lines,$A25,ESSERII) -> 0 | N25: =SUMIF(lines,$A25,ESSERIII) -> 0 | O25: =SUMIF(lines,$A25,ESSERG) -> 0 | P25: =SUMIF(lines,$A25,GEER) -> 0 | Q25: =SUMIF(lines,$A25,doefed) -> 0 | R25: =SUMIF(lines,$A25,adultfed) -> 0 | S25: =SUMIF(lines,$A25,otherfed) -> 0 | U25: =SUMIF(lines,$A25,doestate) -> 0 | V25: =SUMIF(lines,$A25,adultstate) -> 0 | W25: =SUMIF(lines,$A25,otherstate) -> 0 | X25: =SUMIF(lines,$A25,circuitbreaker) -> 0 | Y25: =SUMIF(lines,$A25,private) -> 0 | Z25: =SUMIF(lines,$A25,schchoice) -> 0 | AA25: =SUMIF(lines,$A25,otherreceipts) -> 0 | AB25: =ROUND(SUM(H25:AA25),0) -> 0
A26: 3414 | B26: Contracted Services (04) | C26: =SUMIF(lines,$A26,day) -> 0 | D26: =SUMIF(lines,$A26,special) -> 0 | E26: =SUMIF(lines,$A26,occday) -> 0 | F26: =SUMIF(lines,$A26,other) -> 0 | H26: =ROUND(SUM(C26:F26),0) -> 0 | J26: =SUMIF(lines,$A26,TitleI) -> 0 | K26: =SUMIF(lines,$A26,IDEA) -> 0 | L26: =SUMIF(lines,$A26,ESSERI) -> 0 | M26: =SUMIF(lines,$A26,ESSERII) -> 0 | N26: =SUMIF(lines,$A26,ESSERIII) -> 0 | O26: =SUMIF(lines,$A26,ESSERG) -> 0 | P26: =SUMIF(lines,$A26,GEER) -> 0 | Q26: =SUMIF(lines,$A26,doefed) -> 0 | R26: =SUMIF(lines,$A26,adultfed) -> 0 | S26: =SUMIF(lines,$A26,otherfed) -> 0 | U26: =SUMIF(lines,$A26,doestate) -> 0 | V26: =SUMIF(lines,$A26,adultstate) -> 0 | W26: =SUMIF(lines,$A26,otherstate) -> 0 | X26: =SUMIF(lines,$A26,circuitbreaker) -> 0 | Y26: =SUMIF(lines,$A26,private) -> 0 | Z26: =SUMIF(lines,$A26,schchoice) -> 0 | AA26: =SUMIF(lines,$A26,otherreceipts) -> 0 | AB26: =ROUND(SUM(H26:AA26),0) -> 0
A27: 3415 | B27: Supplies and Materials (05) | C27: =SUMIF(lines,$A27,day) -> 0 | D27: =SUMIF(lines,$A27,special) -> 0 | E27: =SUMIF(lines,$A27,occday) -> 0 | F27: =SUMIF(lines,$A27,other) -> 0 | H27: =ROUND(SUM(C27:F27),0) -> 0 | J27: =SUMIF(lines,$A27,TitleI) -> 0 | K27: =SUMIF(lines,$A27,IDEA) -> 0 | L27: =SUMIF(lines,$A27,ESSERI) -> 0 | M27: =SUMIF(lines,$A27,ESSERII) -> 0 | N27: =SUMIF(lines,$A27,ESSERIII) -> 0 | O27: =SUMIF(lines,$A27,ESSERG) -> 0 | P27: =SUMIF(lines,$A27,GEER) -> 0 | Q27: =SUMIF(lines,$A27,doefed) -> 0 | R27: =SUMIF(lines,$A27,adultfed) -> 0 | S27: =SUMIF(lines,$A27,otherfed) -> 0 | U27: =SUMIF(lines,$A27,doestate) -> 0 | V27: =SUMIF(lines,$A27,adultstate) -> 0 | W27: =SUMIF(lines,$A27,otherstate) -> 0 | X27: =SUMIF(lines,$A27,circuitbreaker) -> 0 | Y27: =SUMIF(lines,$A27,private) -> 0 | Z27: =SUMIF(lines,$A27,schchoice) -> 0 | AA27: =SUMIF(lines,$A27,otherreceipts) -> 0 | AB27: =ROUND(SUM(H27:AA27),0) -> 0
A28: 3416 | B28: Other Expenses (06) | C28: =SUMIF(lines,$A28,day) -> 0 | D28: =SUMIF(lines,$A28,special) -> 0 | E28: =SUMIF(lines,$A28,occday) -> 0 | F28: =SUMIF(lines,$A28,other) -> 0 | H28: =ROUND(SUM(C28:F28),0) -> 0 | J28: =SUMIF(lines,$A28,TitleI) -> 0 | K28: =SUMIF(lines,$A28,IDEA) -> 0 | L28: =SUMIF(lines,$A28,ESSERI) -> 0 | M28: =SUMIF(lines,$A28,ESSERII) -> 0 | N28: =SUMIF(lines,$A28,ESSERIII) -> 0 | O28: =SUMIF(lines,$A28,ESSERG) -> 0 | P28: =SUMIF(lines,$A28,GEER) -> 0 | Q28: =SUMIF(lines,$A28,doefed) -> 0 | R28: =SUMIF(lines,$A28,adultfed) -> 0 | S28: =SUMIF(lines,$A28,otherfed) -> 0 | U28: =SUMIF(lines,$A28,doestate) -> 0 | V28: =SUMIF(lines,$A28,adultstate) -> 0 | W28: =SUMIF(lines,$A28,otherstate) -> 0 | X28: =SUMIF(lines,$A28,circuitbreaker) -> 0 | Y28: =SUMIF(lines,$A28,private) -> 0 | Z28: =SUMIF(lines,$A28,schchoice) -> 0 | AA28: =SUMIF(lines,$A28,otherreceipts) -> 0 | AB28: =ROUND(SUM(H28:AA28),0) -> 0
A29: 3419 | B29: Sub-total | C29: =ROUND(SUM(C23:C28),0) -> 0 | D29: =ROUND(SUM(D23:D28),0) -> 0 | E29: =ROUND(SUM(E23:E28),0) -> 0 | F29: =ROUND(SUM(F23:F28),0) -> 0 | H29: =ROUND(SUM(C29:F29),0) -> 0 | J29: =ROUND(SUM(J23:J28),0) -> 0 | K29: =ROUND(SUM(K23:K28),0) -> 0 | L29: =ROUND(SUM(L23:L28),0) -> 0 | M29: =ROUND(SUM(M23:M28),0) -> 0 | N29: =ROUND(SUM(N23:N28),0) -> 0 | O29: =ROUND(SUM(O23:O28),0) -> 0 | P29: =ROUND(SUM(P23:P28),0) -> 0 | Q29: =ROUND(SUM(Q23:Q28),0) -> 0 | ... S29: =ROUND(SUM(S23:S28),0) -> 0 | U29: =ROUND(SUM(U23:U28),0) -> 0 | V29: =ROUND(SUM(V23:V28),0) -> 0 | W29: =ROUND(SUM(W23:W28),0) -> 0 | X29: =ROUND(SUM(X23:X28),0) -> 0 | Y29: =ROUND(SUM(Y23:Y28),0) -> 0 | Z29: =ROUND(SUM(Z23:Z28),0) -> 0 | AA29: =ROUND(SUM(AA23:AA28),0) -> 0 | AB29: =ROUND(SUM(H29:AA29),0) -> 0
B30: Instructional Technology Leadership and Training (2130)
A31: 3421 | B31: Professional Salaries (01) | C31: =SUMIF(lines,$A31,day) -> 0 | D31: =SUMIF(lines,$A31,special) -> 0 | E31: =SUMIF(lines,$A31,occday) -> 0 | F31: =SUMIF(lines,$A31,other) -> 0 | H31: =ROUND(SUM(C31:F31),0) -> 0 | J31: =SUMIF(lines,$A31,TitleI) -> 0 | K31: =SUMIF(lines,$A31,IDEA) -> 0 | L31: =SUMIF(lines,$A31,ESSERI) -> 0 | M31: =SUMIF(lines,$A31,ESSERII) -> 0 | N31: =SUMIF(lines,$A31,ESSERIII) -> 0 | O31: =SUMIF(lines,$A31,ESSERG) -> 0 | P31: =SUMIF(lines,$A31,GEER) -> 0 | Q31: =SUMIF(lines,$A31,doefed) -> 0 | R31: =SUMIF(lines,$A31,adultfed) -> 0 | S31: =SUMIF(lines,$A31,otherfed) -> 0 | U31: =SUMIF(lines,$A31,doestate) -> 0 | V31: =SUMIF(lines,$A31,adultstate) -> 0 | W31: =SUMIF(lines,$A31,otherstate) -> 0 | X31: =SUMIF(lines,$A31,circuitbreaker) -> 0 | Y31: =SUMIF(lines,$A31,private) -> 0 | Z31: =SUMIF(lines,$A31,schchoice) -> 0 | AA31: =SUMIF(lines,$A31,otherreceipts) -> 0 | AB31: =ROUND(SUM(H31:AA31),0) -> 0
A32: 3422 | B32: Clerical Salaries (02) | C32: =SUMIF(lines,$A32,day) -> 0 | D32: =SUMIF(lines,$A32,special) -> 0 | E32: =SUMIF(lines,$A32,occday) -> 0 | F32: =SUMIF(lines,$A32,other) -> 0 | H32: =ROUND(SUM(C32:F32),0) -> 0 | J32: =SUMIF(lines,$A32,TitleI) -> 0 | K32: =SUMIF(lines,$A32,IDEA) -> 0 | L32: =SUMIF(lines,$A32,ESSERI) -> 0 | M32: =SUMIF(lines,$A32,ESSERII) -> 0 | N32: =SUMIF(lines,$A32,ESSERIII) -> 0 | O32: =SUMIF(lines,$A32,ESSERG) -> 0 | P32: =SUMIF(lines,$A32,GEER) -> 0 | Q32: =SUMIF(lines,$A32,doefed) -> 0 | R32: =SUMIF(lines,$A32,adultfed) -> 0 | S32: =SUMIF(lines,$A32,otherfed) -> 0 | U32: =SUMIF(lines,$A32,doestate) -> 0 | V32: =SUMIF(lines,$A32,adultstate) -> 0 | W32: =SUMIF(lines,$A32,otherstate) -> 0 | X32: =SUMIF(lines,$A32,circuitbreaker) -> 0 | Y32: =SUMIF(lines,$A32,private) -> 0 | Z32: =SUMIF(lines,$A32,schchoice) -> 0 | AA32: =SUMIF(lines,$A32,otherreceipts) -> 0 | AB32: =ROUND(SUM(H32:AA32),0) -> 0
A33: 3423 | B33: Other Salaries (03) | C33: =SUMIF(lines,$A33,day) -> 0 | D33: =SUMIF(lines,$A33,special) -> 0 | E33: =SUMIF(lines,$A33,occday) -> 0 | F33: =SUMIF(lines,$A33,other) -> 0 | H33: =ROUND(SUM(C33:F33),0) -> 0 | J33: =SUMIF(lines,$A33,TitleI) -> 0 | K33: =SUMIF(lines,$A33,IDEA) -> 0 | L33: =SUMIF(lines,$A33,ESSERI) -> 0 | M33: =SUMIF(lines,$A33,ESSERII) -> 0 | N33: =SUMIF(lines,$A33,ESSERIII) -> 0 | O33: =SUMIF(lines,$A33,ESSERG) -> 0 | P33: =SUMIF(lines,$A33,GEER) -> 0 | Q33: =SUMIF(lines,$A33,doefed) -> 0 | R33: =SUMIF(lines,$A33,adultfed) -> 0 | S33: =SUMIF(lines,$A33,otherfed) -> 0 | U33: =SUMIF(lines,$A33,doestate) -> 0 | V33: =SUMIF(lines,$A33,adultstate) -> 0 | W33: =SUMIF(lines,$A33,otherstate) -> 0 | X33: =SUMIF(lines,$A33,circuitbreaker) -> 0 | Y33: =SUMIF(lines,$A33,private) -> 0 | Z33: =SUMIF(lines,$A33,schchoice) -> 0 | AA33: =SUMIF(lines,$A33,otherreceipts) -> 0 | AB33: =ROUND(SUM(H33:AA33),0) -> 0
A34: 3424 | B34: Contracted Services (04) | C34: =SUMIF(lines,$A34,day) -> 0 | D34: =SUMIF(lines,$A34,special) -> 0 | E34: =SUMIF(lines,$A34,occday) -> 0 | F34: =SUMIF(lines,$A34,other) -> 0 | H34: =ROUND(SUM(C34:F34),0) -> 0 | J34: =SUMIF(lines,$A34,TitleI) -> 0 | K34: =SUMIF(lines,$A34,IDEA) -> 0 | L34: =SUMIF(lines,$A34,ESSERI) -> 0 | M34: =SUMIF(lines,$A34,ESSERII) -> 0 | N34: =SUMIF(lines,$A34,ESSERIII) -> 0 | O34: =SUMIF(lines,$A34,ESSERG) -> 0 | P34: =SUMIF(lines,$A34,GEER) -> 0 | Q34: =SUMIF(lines,$A34,doefed) -> 0 | R34: =SUMIF(lines,$A34,adultfed) -> 0 | S34: =SUMIF(lines,$A34,otherfed) -> 0 | U34: =SUMIF(lines,$A34,doestate) -> 0 | V34: =SUMIF(lines,$A34,adultstate) -> 0 | W34: =SUMIF(lines,$A34,otherstate) -> 0 | X34: =SUMIF(lines,$A34,circuitbreaker) -> 0 | Y34: =SUMIF(lines,$A34,private) -> 0 | Z34: =SUMIF(lines,$A34,schchoice) -> 0 | AA34: =SUMIF(lines,$A34,otherreceipts) -> 0 | AB34: =ROUND(SUM(H34:AA34),0) -> 0
A35: 3425 | B35: Supplies and Materials (05) | C35: =SUMIF(lines,$A35,day) -> 0 | D35: =SUMIF(lines,$A35,special) -> 0 | E35: =SUMIF(lines,$A35,occday) -> 0 | F35: =SUMIF(lines,$A35,other) -> 0 | H35: =ROUND(SUM(C35:F35),0) -> 0 | J35: =SUMIF(lines,$A35,TitleI) -> 0 | K35: =SUMIF(lines,$A35,IDEA) -> 0 | L35: =SUMIF(lines,$A35,ESSERI) -> 0 | M35: =SUMIF(lines,$A35,ESSERII) -> 0 | N35: =SUMIF(lines,$A35,ESSERIII) -> 0 | O35: =SUMIF(lines,$A35,ESSERG) -> 0 | P35: =SUMIF(lines,$A35,GEER) -> 0 | Q35: =SUMIF(lines,$A35,doefed) -> 0 | R35: =SUMIF(lines,$A35,adultfed) -> 0 | S35: =SUMIF(lines,$A35,otherfed) -> 0 | U35: =SUMIF(lines,$A35,doestate) -> 0 | V35: =SUMIF(lines,$A35,adultstate) -> 0 | W35: =SUMIF(lines,$A35,otherstate) -> 0 | X35: =SUMIF(lines,$A35,circuitbreaker) -> 0 | Y35: =SUMIF(lines,$A35,private) -> 0 | Z35: =SUMIF(lines,$A35,schchoice) -> 0 | AA35: =SUMIF(lines,$A35,otherreceipts) -> 0 | AB35: =ROUND(SUM(H35:AA35),0) -> 0
A36: 3426 | B36: Other Expenses (06) | C36: =SUMIF(lines,$A36,day) -> 0 | D36: =SUMIF(lines,$A36,special) -> 0 | E36: =SUMIF(lines,$A36,occday) -> 0 | F36: =SUMIF(lines,$A36,other) -> 0 | H36: =ROUND(SUM(C36:F36),0) -> 0 | J36: =SUMIF(lines,$A36,TitleI) -> 0 | K36: =SUMIF(lines,$A36,IDEA) -> 0 | L36: =SUMIF(lines,$A36,ESSERI) -> 0 | M36: =SUMIF(lines,$A36,ESSERII) -> 0 | N36: =SUMIF(lines,$A36,ESSERIII) -> 0 | O36: =SUMIF(lines,$A36,ESSERG) -> 0 | P36: =SUMIF(lines,$A36,GEER) -> 0 | Q36: =SUMIF(lines,$A36,doefed) -> 0 | R36: =SUMIF(lines,$A36,adultfed) -> 0 | S36: =SUMIF(lines,$A36,otherfed) -> 0 | U36: =SUMIF(lines,$A36,doestate) -> 0 | V36: =SUMIF(lines,$A36,adultstate) -> 0 | W36: =SUMIF(lines,$A36,otherstate) -> 0 | X36: =SUMIF(lines,$A36,circuitbreaker) -> 0 | Y36: =SUMIF(lines,$A36,private) -> 0 | Z36: =SUMIF(lines,$A36,schchoice) -> 0 | AA36: =SUMIF(lines,$A36,otherreceipts) -> 0 | AB36: =ROUND(SUM(H36:AA36),0) -> 0
A37: 3427 | B37: Sub-total | C37: =ROUND(SUM(C31:C36),0) -> 0 | D37: =ROUND(SUM(D31:D36),0) -> 0 | E37: =ROUND(SUM(E31:E36),0) -> 0 | F37: =ROUND(SUM(F31:F36),0) -> 0 | H37: =ROUND(SUM(C37:F37),0) -> 0 | J37: =ROUND(SUM(J31:J36),0) -> 0 | K37: =ROUND(SUM(K31:K36),0) -> 0 | L37: =ROUND(SUM(L31:L36),0) -> 0 | M37: =ROUND(SUM(M31:M36),0) -> 0 | N37: =ROUND(SUM(N31:N36),0) -> 0 | O37: =ROUND(SUM(O31:O36),0) -> 0 | P37: =ROUND(SUM(P31:P36),0) -> 0 | Q37: =ROUND(SUM(Q31:Q36),0) -> 0 | ... S37: =ROUND(SUM(S31:S36),0) -> 0 | U37: =ROUND(SUM(U31:U36),0) -> 0 | V37: =ROUND(SUM(V31:V36),0) -> 0 | W37: =ROUND(SUM(W31:W36),0) -> 0 | X37: =ROUND(SUM(X31:X36),0) -> 0 | Y37: =ROUND(SUM(Y31:Y36),0) -> 0 | Z37: =ROUND(SUM(Z31:Z36),0) -> 0 | AA37: =ROUND(SUM(AA31:AA36),0) -> 0 | AB37: =ROUND(SUM(H37:AA37),0) -> 0
B38: School Leadership-Building (2210)
A39: 3428 | B39: Professional Salaries (01) | G39: =SUMIF(lines,$A39,undist) -> 0 | H39: =ROUND(G39,0) -> 0 | J39: =SUMIF(lines,$A39,TitleI) -> 0 | K39: =SUMIF(lines,$A39,IDEA) -> 0 | L39: =SUMIF(lines,$A39,ESSERI) -> 0 | M39: =SUMIF(lines,$A39,ESSERII) -> 0 | N39: =SUMIF(lines,$A39,ESSERIII) -> 0 | O39: =SUMIF(lines,$A39,ESSERG) -> 0 | P39: =SUMIF(lines,$A39,GEER) -> 0 | Q39: =SUMIF(lines,$A39,doefed) -> 0 | R39: =SUMIF(lines,$A39,adultfed) -> 0 | S39: =SUMIF(lines,$A39,otherfed) -> 0 | U39: =SUMIF(lines,$A39,doestate) -> 0 | V39: =SUMIF(lines,$A39,adultstate) -> 0 | W39: =SUMIF(lines,$A39,otherstate) -> 0 | X39: =SUMIF(lines,$A39,circuitbreaker) -> 0 | Y39: =SUMIF(lines,$A39,private) -> 0 | Z39: =SUMIF(lines,$A39,schchoice) -> 0 | AA39: =SUMIF(lines,$A39,otherreceipts) -> 0 | AB39: =ROUND(SUM(H39:AA39),0) -> 0
A40: 3429 | B40: Clerical Salaries (02) | G40: =SUMIF(lines,$A40,undist) -> 0 | H40: =ROUND(G40,0) -> 0 | J40: =SUMIF(lines,$A40,TitleI) -> 0 | K40: =SUMIF(lines,$A40,IDEA) -> 0 | L40: =SUMIF(lines,$A40,ESSERI) -> 0 | M40: =SUMIF(lines,$A40,ESSERII) -> 0 | N40: =SUMIF(lines,$A40,ESSERIII) -> 0 | O40: =SUMIF(lines,$A40,ESSERG) -> 0 | P40: =SUMIF(lines,$A40,GEER) -> 0 | Q40: =SUMIF(lines,$A40,doefed) -> 0 | R40: =SUMIF(lines,$A40,adultfed) -> 0 | S40: =SUMIF(lines,$A40,otherfed) -> 0 | U40: =SUMIF(lines,$A40,doestate) -> 0 | V40: =SUMIF(lines,$A40,adultstate) -> 0 | W40: =SUMIF(lines,$A40,otherstate) -> 0 | X40: =SUMIF(lines,$A40,circuitbreaker) -> 0 | Y40: =SUMIF(lines,$A40,private) -> 0 | Z40: =SUMIF(lines,$A40,schchoice) -> 0 | AA40: =SUMIF(lines,$A40,otherreceipts) -> 0 | AB40: =ROUND(SUM(H40:AA40),0) -> 0
A41: 3430 | B41: Other Salaries (03) | G41: =SUMIF(lines,$A41,undist) -> 0 | H41: =ROUND(G41,0) -> 0 | J41: =SUMIF(lines,$A41,TitleI) -> 0 | K41: =SUMIF(lines,$A41,IDEA) -> 0 | L41: =SUMIF(lines,$A41,ESSERI) -> 0 | M41: =SUMIF(lines,$A41,ESSERII) -> 0 | N41: =SUMIF(lines,$A41,ESSERIII) -> 0 | O41: =SUMIF(lines,$A41,ESSERG) -> 0 | P41: =SUMIF(lines,$A41,GEER) -> 0 | Q41: =SUMIF(lines,$A41,doefed) -> 0 | R41: =SUMIF(lines,$A41,adultfed) -> 0 | S41: =SUMIF(lines,$A41,otherfed) -> 0 | U41: =SUMIF(lines,$A41,doestate) -> 0 | V41: =SUMIF(lines,$A41,adultstate) -> 0 | W41: =SUMIF(lines,$A41,otherstate) -> 0 | X41: =SUMIF(lines,$A41,circuitbreaker) -> 0 | Y41: =SUMIF(lines,$A41,private) -> 0 | Z41: =SUMIF(lines,$A41,schchoice) -> 0 | AA41: =SUMIF(lines,$A41,otherreceipts) -> 0 | AB41: =ROUND(SUM(H41:AA41),0) -> 0
A42: 3431 | B42: Contracted Services (04) | G42: =SUMIF(lines,$A42,undist) -> 0 | H42: =ROUND(G42,0) -> 0 | J42: =SUMIF(lines,$A42,TitleI) -> 0 | K42: =SUMIF(lines,$A42,IDEA) -> 0 | L42: =SUMIF(lines,$A42,ESSERI) -> 0 | M42: =SUMIF(lines,$A42,ESSERII) -> 0 | N42: =SUMIF(lines,$A42,ESSERIII) -> 0 | O42: =SUMIF(lines,$A42,ESSERG) -> 0 | P42: =SUMIF(lines,$A42,GEER) -> 0 | Q42: =SUMIF(lines,$A42,doefed) -> 0 | R42: =SUMIF(lines,$A42,adultfed) -> 0 | S42: =SUMIF(lines,$A42,otherfed) -> 0 | U42: =SUMIF(lines,$A42,doestate) -> 0 | V42: =SUMIF(lines,$A42,adultstate) -> 0 | W42: =SUMIF(lines,$A42,otherstate) -> 0 | X42: =SUMIF(lines,$A42,circuitbreaker) -> 0 | Y42: =SUMIF(lines,$A42,private) -> 0 | Z42: =SUMIF(lines,$A42,schchoice) -> 0 | AA42: =SUMIF(lines,$A42,otherreceipts) -> 0 | AB42: =ROUND(SUM(H42:AA42),0) -> 0
A43: 3432 | B43: Supplies and Materials (05) | G43: =SUMIF(lines,$A43,undist) -> 0 | H43: =ROUND(G43,0) -> 0 | J43: =SUMIF(lines,$A43,TitleI) -> 0 | K43: =SUMIF(lines,$A43,IDEA) -> 0 | L43: =SUMIF(lines,$A43,ESSERI) -> 0 | M43: =SUMIF(lines,$A43,ESSERII) -> 0 | N43: =SUMIF(lines,$A43,ESSERIII) -> 0 | O43: =SUMIF(lines,$A43,ESSERG) -> 0 | P43: =SUMIF(lines,$A43,GEER) -> 0 | Q43: =SUMIF(lines,$A43,doefed) -> 0 | R43: =SUMIF(lines,$A43,adultfed) -> 0 | S43: =SUMIF(lines,$A43,otherfed) -> 0 | U43: =SUMIF(lines,$A43,doestate) -> 0 | V43: =SUMIF(lines,$A43,adultstate) -> 0 | W43: =SUMIF(lines,$A43,otherstate) -> 0 | X43: =SUMIF(lines,$A43,circuitbreaker) -> 0 | Y43: =SUMIF(lines,$A43,private) -> 0 | Z43: =SUMIF(lines,$A43,schchoice) -> 0 | AA43: =SUMIF(lines,$A43,otherreceipts) -> 0 | AB43: =ROUND(SUM(H43:AA43),0) -> 0
A44: 3433 | B44: Other Expenses (06) | G44: =SUMIF(lines,$A44,undist) -> 0 | H44: =ROUND(G44,0) -> 0 | J44: =SUMIF(lines,$A44,TitleI) -> 0 | K44: =SUMIF(lines,$A44,IDEA) -> 0 | L44: =SUMIF(lines,$A44,ESSERI) -> 0 | M44: =SUMIF(lines,$A44,ESSERII) -> 0 | N44: =SUMIF(lines,$A44,ESSERIII) -> 0 | O44: =SUMIF(lines,$A44,ESSERG) -> 0 | P44: =SUMIF(lines,$A44,GEER) -> 0 | Q44: =SUMIF(lines,$A44,doefed) -> 0 | R44: =SUMIF(lines,$A44,adultfed) -> 0 | S44: =SUMIF(lines,$A44,otherfed) -> 0 | U44: =SUMIF(lines,$A44,doestate) -> 0 | V44: =SUMIF(lines,$A44,adultstate) -> 0 | W44: =SUMIF(lines,$A44,otherstate) -> 0 | X44: =SUMIF(lines,$A44,circuitbreaker) -> 0 | Y44: =SUMIF(lines,$A44,private) -> 0 | Z44: =SUMIF(lines,$A44,schchoice) -> 0 | AA44: =SUMIF(lines,$A44,otherreceipts) -> 0 | AB44: =ROUND(SUM(H44:AA44),0) -> 0
A45: 3434 | B45: Sub-total | G45: =ROUND(SUM(G39:G44),0) -> 0 | H45: =ROUND(SUM(G45),0) -> 0 | J45: =ROUND(SUM(J39:J44),0) -> 0 | K45: =ROUND(SUM(K39:K44),0) -> 0 | L45: =ROUND(SUM(L39:L44),0) -> 0 | M45: =ROUND(SUM(M39:M44),0) -> 0 | N45: =ROUND(SUM(N39:N44),0) -> 0 | O45: =ROUND(SUM(O39:O44),0) -> 0 | P45: =ROUND(SUM(P39:P44),0) -> 0 | Q45: =ROUND(SUM(Q39:Q44),0) -> 0 | ... S45: =ROUND(SUM(S39:S44),0) -> 0 | U45: =ROUND(SUM(U39:U44),0) -> 0 | V45: =ROUND(SUM(V39:V44),0) -> 0 | W45: =ROUND(SUM(W39:W44),0) -> 0 | X45: =ROUND(SUM(X39:X44),0) -> 0 | Y45: =ROUND(SUM(Y39:Y44),0) -> 0 | Z45: =ROUND(SUM(Z39:Z44),0) -> 0 | AA45: =ROUND(SUM(AA39:AA44),0) -> 0 | AB45: =ROUND(SUM(H45:AA45),0) -> 0
B46: Administrative Technology and Support – Schools (2250)
A47: 3444 | B47: Contracted Services (04) | C47: =SUMIF(lines,$A47,day) -> 0 | D47: =SUMIF(lines,$A47,special) -> 0 | E47: =SUMIF(lines,$A47,occday) -> 0 | F47: =SUMIF(lines,$A47,other) -> 0 | H47: =ROUND(SUM(C47:F47),0) -> 0 | J47: =SUMIF(lines,$A47,TitleI) -> 0 | K47: =SUMIF(lines,$A47,IDEA) -> 0 | L47: =SUMIF(lines,$A47,ESSERI) -> 0 | M47: =SUMIF(lines,$A47,ESSERII) -> 0 | N47: =SUMIF(lines,$A47,ESSERIII) -> 0 | O47: =SUMIF(lines,$A47,ESSERG) -> 0 | P47: =SUMIF(lines,$A47,GEER) -> 0 | Q47: =SUMIF(lines,$A47,doefed) -> 0 | R47: =SUMIF(lines,$A47,adultfed) -> 0 | S47: =SUMIF(lines,$A47,otherfed) -> 0 | U47: =SUMIF(lines,$A47,doestate) -> 0 | V47: =SUMIF(lines,$A47,adultstate) -> 0 | W47: =SUMIF(lines,$A47,otherstate) -> 0 | X47: =SUMIF(lines,$A47,circuitbreaker) -> 0 | Y47: =SUMIF(lines,$A47,private) -> 0 | Z47: =SUMIF(lines,$A47,schchoice) -> 0 | AA47: =SUMIF(lines,$A47,otherreceipts) -> 0 | AB47: =ROUND(SUM(H47:AA47),0) -> 0
...

Sheet schedule3
D2: 1 | E2: =D2+1 -> 2
A5: 6 | C5: 2023-2024 End of Year Pupil and Financial Report | E5: LEA | F5: District | H5: School | I5: Name | K5: Grade Level
C6: Schedule 3 Individual School Expenditures | E6: =schools!B1 -> 162 | F6: =schools!C1 -> Lunenburg | H6: 000 | I6: Districtwide | K6: K | L6: 12
E8: 1 | F8: 2 | G8: 3 | H8: 4 | I8: 5 | J8: 6 | K8: 7 | L8: 8 | M8: 9 | N8: 10 | O8: 11 | P8: 12 | Q8: 13 | R8: 14 | S8: 15 | T8: 16 | U8: 17 | V8: 18 | W8: 19 | X8: 20 | Y8: 21 | Z8: 22 | AA8: 23 | AB8: 24 | AC8: 25 | AD8: 26
L9: FEDERAL GRANTS | W9: STATE GRANTS | Z9: REVOLVING AND SPECIAL REVENUE FUNDS
H10: Adult Ed. | S10: Other | T10: DESE | X10: DESE | AB10: School | AD10: Total
G11: Chapter 74 | H11: And | J11: Total | Q11: ESSER | S11: DESE | T11: Administered | W11: DESE | X11: Administered | Y11: Other | AB11: Choice and | AC11: Other | AD11: Expenditures
E12: Regular | F12: Special | G12: Vocational/ | H12: Other | J12: School | K12: City/Town | L12: Title I | M12: IDEA | N12: ESSER I | O12: ESSER II | P12: ESSER III | Q12: SEA | S12: Administered | T12: Federal | U12: Other | W12: Administered | X12: State | Y12: State | Z12: Circuit | AA12: Private | AB12: Other | AC12: Local | AD12: All
E13: Day | F13: Education | G13: Technical | H13: Programs | I13: Undistributed | J13: Committee | K13: Appropriation | L13: FC 305 | M13: FC 240 | N13: FC 113 | O13: FC 115 | P13: FC 119 | Q13: Reserve | R13: GEER | S13: Federal | T13: Adult Ed. | U13: Federal | V13: Blank | W13: State | X13: Adult Ed. | Y13: Grants | Z13: Breaker | AA13: Grants | AB13: Tuition | AC13: Receipts | AD13: Funds
C14: Line | D14: Curriculum Directors and Department Heads (Supervisory) (2110)
C15: 3401 | D15: Professional Salaries (01) | E15: 121000 | F15: 142900 | J15: =ROUND(SUM(E15:H15),0) -> 263900 | L15: 5000 | U15: 31383 | AD15: =SUM(J15:AC15) -> 300283
C16: 3402 | D16: Clerical Salaries (02) | F16: 57351 | J16: =ROUND(SUM(E16:H16),0) -> 57351 | AD16: =ROUND(SUM(J16:AC16),0) -> 57351
C17: 3403 | D17: Other Salaries (03) | J17: =ROUND(SUM(E17:H17),0) -> 0 | AD17: =ROUND(SUM(J17:AC17),0) -> 0
C18: 3404 | D18: Contracted Services (04) | F18: 29483 | J18: =ROUND(SUM(E18:H18),0) -> 29483 | L18: 625 | W18: 775.58 | AD18: =ROUND(SUM(J18:AC18),0) -> 30884
C19: 3405 | D19: Supplies and Materials (05) | E19: 32287 | F19: 25612.17 | J19: =ROUND(SUM(E19:H19),0) -> 57899 | AA19: 31053 | AD19: =ROUND(SUM(J19:AC19),0) -> 88952
C20: 3406 | D20: Other Expenses (06) | J20: =ROUND(SUM(E20:H20),0) -> 0 | AD20: =ROUND(SUM(J20:AC20),0) -> 0
C21: 3409 | D21: Sub-total | E21: =ROUND(SUM(E15:E20),0) -> 153287 | F21: =ROUND(SUM(F15:F20),0) -> 255346 | G21: =ROUND(SUM(G15:G20),0) -> 0 | H21: =ROUND(SUM(H15:H20),0) -> 0 | J21: =ROUND(SUM(E21:H21),0) -> 408633 | L21: 5625 | M21: =ROUND(SUM(M15:M20),0) -> 0 | N21: =ROUND(SUM(N15:N20),0) -> 0 | O21: =ROUND(SUM(O15:O20),0) -> 0 | P21: =ROUND(SUM(P15:P20),0) -> 0 | Q21: =ROUND(SUM(Q15:Q20),0) -> 0 | R21: =ROUND(SUM(R15:R20),0) -> 0 | S21: =ROUND(SUM(S15:S20),0) -> 0 | T21: =ROUND(SUM(T15:T20),0) -> 0 | U21: =ROUND(SUM(U15:U20),0) -> 31383 | W21: =ROUND(SUM(W15:W20),0) -> 776 | X21: =ROUND(SUM(X15:X20),0) -> 0 | Y21: =ROUND(SUM(Y15:Y20),0) -> 0 | Z21: =ROUND(SUM(Z15:Z20),0) -> 0 | AA21: =ROUND(SUM(AA15:AA20),0) -> 31053 | AB21: =ROUND(SUM(AB15:AB20),0) -> 0 | AC21: =ROUND(SUM(AC15:AC20),0) -> 0 | AD21: =ROUND(SUM(J21:AC21),0) -> 477470
D22: Curriculum Directors and Department Heads (Non-Supervisory) (2120)
C23: 3411 | D23: Professional Salaries (01) | J23: =ROUND(SUM(E23:H23),0) -> 0 | AD23: =ROUND(SUM(J23:AC23),0) -> 0
C24: 3412 | D24: Clerical Salaries (02) | J24: =ROUND(SUM(E24:H24),0) -> 0 | AD24: =ROUND(SUM(J24:AC24),0) -> 0
C25: 3413 | D25: Other Salaries (03) | J25: =ROUND(SUM(E25:H25),0) -> 0 | AD25: =ROUND(SUM(J25:AC25),0) -> 0
C26: 3414 | D26: Contracted Services (04) | J26: =ROUND(SUM(E26:H26),0) -> 0 | AD26: =ROUND(SUM(J26:AC26),0) -> 0
C27: 3415 | D27: Supplies and Materials (05) | J27: =ROUND(SUM(E27:H27),0) -> 0 | AD27: =ROUND(SUM(J27:AC27),0) -> 0
C28: 3416 | D28: Other Expenses (06) | J28: =ROUND(SUM(E28:H28),0) -> 0 | AD28: =ROUND(SUM(J28:AC28),0) -> 0
C29: 3419 | D29: Sub-total | E29: =ROUND(SUM(E23:E28),0) -> 0 | F29: =ROUND(SUM(F23:F28),0) -> 0 | G29: =ROUND(SUM(G23:G28),0) -> 0 | H29: =ROUND(SUM(H23:H28),0) -> 0 | J29: =ROUND(SUM(E29:H29),0) -> 0 | L29: =ROUND(SUM(L23:L28),0) -> 0 | M29: =ROUND(SUM(M23:M28),0) -> 0 | N29: =ROUND(SUM(N23:N28),0) -> 0 | O29: =ROUND(SUM(O23:O28),0) -> 0 | P29: =ROUND(SUM(P23:P28),0) -> 0 | Q29: =ROUND(SUM(Q23:Q28),0) -> 0 | R29: =ROUND(SUM(R23:R28),0) -> 0 | S29: =ROUND(SUM(S23:S28),0) -> 0 | ... U29: =ROUND(SUM(U23:U28),0) -> 0 | W29: =ROUND(SUM(W23:W28),0) -> 0 | X29: =ROUND(SUM(X23:X28),0) -> 0 | Y29: =ROUND(SUM(Y23:Y28),0) -> 0 | Z29: =ROUND(SUM(Z23:Z28),0) -> 0 | AA29: =ROUND(SUM(AA23:AA28),0) -> 0 | AB29: =ROUND(SUM(AB23:AB28),0) -> 0 | AC29: =ROUND(SUM(AC23:AC28),0) -> 0 | AD29: =ROUND(SUM(J29:AC29),0) -> 0
D30: Instructional Technology Leadership and Training (2130)
C31: 3421 | D31: Professional Salaries (01) | J31: =ROUND(SUM(E31:H31),0) -> 0 | AD31: =ROUND(SUM(J31:AC31),0) -> 0
C32: 3422 | D32: Clerical Salaries (02) | J32: =ROUND(SUM(E32:H32),0) -> 0 | AD32: =ROUND(SUM(J32:AC32),0) -> 0
C33: 3423 | D33: Other Salaries (03) | J33: =ROUND(SUM(E33:H33),0) -> 0 | AD33: =ROUND(SUM(J33:AC33),0) -> 0
C34: 3424 | D34: Contracted Services (04) | J34: =ROUND(SUM(E34:H34),0) -> 0 | AD34: =ROUND(SUM(J34:AC34),0) -> 0
C35: 3425 | D35: Supplies and Materials (05) | J35: =ROUND(SUM(E35:H35),0) -> 0 | AD35: =ROUND(SUM(J35:AC35),0) -> 0
C36: 3426 | D36: Other Expenses (06) | J36: =ROUND(SUM(E36:H36),0) -> 0 | AD36: =ROUND(SUM(J36:AC36),0) -> 0
C37: 3427 | D37: Sub-total | E37: =ROUND(SUM(E31:E36),0) -> 0 | F37: =ROUND(SUM(F31:F36),0) -> 0 | G37: =ROUND(SUM(G31:G36),0) -> 0 | H37: =ROUND(SUM(H31:H36),0) -> 0 | J37: =ROUND(SUM(E37:H37),0) -> 0 | L37: =ROUND(SUM(L31:L36),0) -> 0 | M37: =ROUND(SUM(M31:M36),0) -> 0 | N37: =ROUND(SUM(N31:N36),0) -> 0 | O37: =ROUND(SUM(O31:O36),0) -> 0 | P37: =ROUND(SUM(P31:P36),0) -> 0 | Q37: =ROUND(SUM(Q31:Q36),0) -> 0 | R37: =ROUND(SUM(R31:R36),0) -> 0 | S37: =ROUND(SUM(S31:S36),0) -> 0 | ... U37: =ROUND(SUM(U31:U36),0) -> 0 | W37: =ROUND(SUM(W31:W36),0) -> 0 | X37: =ROUND(SUM(X31:X36),0) -> 0 | Y37: =ROUND(SUM(Y31:Y36),0) -> 0 | Z37: =ROUND(SUM(Z31:Z36),0) -> 0 | AA37: =ROUND(SUM(AA31:AA36),0) -> 0 | AB37: =ROUND(SUM(AB31:AB36),0) -> 0 | AC37: =ROUND(SUM(AC31:AC36),0) -> 0 | AD37: =ROUND(SUM(J37:AC37),0) -> 0
D38: School Leadership-Building (2210)
C39: 3428 | D39: Professional Salaries (01) | I39: 886431 | J39: =ROUND(I39,0) -> 886431 | AD39: =ROUND(SUM(J39:AC39),0) -> 886431
C40: 3429 | D40: Clerical Salaries (02) | I40: 258111.48 | J40: =ROUND(I40,0) -> 258111 | AD40: =ROUND(SUM(J40:AC40),0) -> 258111
C41: 3430 | D41: Other Salaries (03) | J41: =ROUND(I41,0) -> 0 | S41: 56691 | AD41: =ROUND(SUM(J41:AC41),0) -> 56691
C42: 3431 | D42: Contracted Services (04) | J42: =ROUND(I42,0) -> 0 | L42: 49805.03 | AD42: =ROUND(SUM(J42:AC42),0) -> 49805
C43: 3432 | D43: Supplies and Materials (05) | I43: 12917.51 | J43: =ROUND(I43,0) -> 12918 | AD43: =ROUND(SUM(J43:AC43),0) -> 12918
C44: 3433 | D44: Other Expenses (06) | I44: 8250.65 | J44: =ROUND(I44,0) -> 8251 | AD44: =ROUND(SUM(J44:AC44),0) -> 8251
...

Sheet schedule18
B2: Schedule 18 Survey
B4: Please answer questions 1-18 as they pertain to your district's current teacher's contract. If your contract has expired, please answer based on the scale being used this year through a memorandum of agreement or evergreen clause. Enter NA for any items that do not apply to your district.
D6: Code | E6: Description | H6: Response
B7: 1. | C7: What are the effective dates (start and end dates) of your current teacher's contract? | D7: 0001 | E7: ContractStart | F7: Start (m/d/yy) | H7: 44378
D8: 0002 | E8: ContractEnd | F8: End (m/d/yy) | H8: 45473
B9: 2. | C9: What are the annual negotiated salary increases (% COLA) provided for in your current teacher contract? Provide all relevant years. | D9: 0003 | E9: COLA22 | F9: FY22 | H9: 0.025
D10: 0004 | E10: COLA23 | F10: FY23 | H10: 0.015
D11: 0005 | E11: COLA24 | F11: FY24 | H11: 0.01
D12: 0006 | E12: COLA25 | F12: FY25 | H12: TBD
B13: 3. | C13: Please provide the number of lanes in your current teacher salary schedule. | D13: 0007 | E13: NLanes | F13: N lanes | H13: 10
B14: 4. | C14: Please provide the number of steps in your current teacher salary schedule. | D14: 0008 | E14: Nsteps | F14: N steps | H14: 13
B15: 5. | C15: What are the lowest step, step 5, and top step salary amounts ($/year) for the bachelors, masters, and highest lane in your FY24 teacher salary schedule? Do not include longevity or other credits. | D15: 0009 | E15: LowestStepBachelors | F15: Lowest step | G15: Bachelors | H15: 49551
D16: 0010 | E16: LowestStepMasters | G16: Masters | H16: 57183
D17: 0011 | E17: LowestStepHighest | G17: Highest | H17: 72442
D18: 0012 | E18: Step5Bachelors | F18: Step 5 | G18: Bachelors | H18: 58028
D19: 0013 | E19: Step5Masters | G19: Masters | H19: 65658
D20: 0014 | E20: Step5Highest | G20: Highest | H20: 80919
D21: 0015 | E21: HighestStepBachelors | F21: Highest step | G21: Bachelors | H21: 76959
D22: 0016 | E22: HighestStepMasters | G22: Masters | H22: 84626
D23: 0017 | E23: HighestStepHighest | G23: Highest | H23: 99960
B24: 6. | C24: Does your teacher contract include longevity? | D24: 0018 | E24: LongevityYesNo | F24: Yes/No | H24: Yes
B25: 7. | C25: If yes, how many years must a teacher work to be eligible for the first level of longevity? | D25: 0019 | E25: LongevityFirst | F25: N years | H25: 15
B26: 8. | C26: How much is the first level of longevity (enter $ amount or %)? | D26: 0020 | E26: LongevityFirst$ | F26: $ amount | H26: 1900
D27: 0021 | E27: LongevityFirst% | F27: %
B28: 9. | C28: How many years must a teacher work to be eligible for the highest level of longevity? | D28: 0022 | E28: LongevityHighest | F28: N years | H28: 25
B29: 10. | C29: How much is the highest level of longevity (enter $ amount or %)? | D29: 0023 | E29: LongevityHighest$ | F29: $ amount | H29: 5700
D30: 0024 | E30: LongevityHighest% | F30: %
B31: 11. | C31: Please provide the number of days specified in your teacher contract or otherwise in the following categories: | D31: 0025 | E31: TeacherWorkYearDays | F31: Teacher work year | H31: 183
D32: 0026 | E32: InstructionalYearDays | F32: Instructional year | H32: 180
D33: 0027 | E33: EarlyReleaseDays | F33: Early release | H33: 0
B34: 12. | C34: Please provide the number of early release days for professional development: | D34: 0028 | E34: EarlyReleaseDaysPD | H34: 5
B35: 13. | C35: Please provide the number of sick days, personal days, and max accumulation of sick days provided in your current teacher's contract: | D35: 0029 | E35: SickDays | F35: N sick days | H35: 12
D36: 0030 | E36: PersonalDays | F36: N personal days | H36: 3
D37: 0031 | E37: MaxAccumulationDays | F37: Max accumulation | H37: 180
B38: 14. | C38: Based on the health insurance plans that are available in your district, what are your district's highest and lowest employer shares for health insurance for standard family plans active and retired employees? | D38: 0032 | E38: EmployerShareActive | F38: Employer share: Active employees | G38: Highest % | H38: 0.75 | I38: =IF(H38<0.5,"This employer share percentage is low, please confirm","")
D39: 0033 | G39: Lowest % | H39: 0.75 | I39: =IF(H39<0.5,"This employer share percentage is low, please confirm","")
D40: 0034 | E40: EmployerShareRetired | F40: Employer share: Retired employees | G40: Highest % | H40: 0.75 | I40: =IF(H40<0.5,"This employer share percentage is low, please confirm","")
D41: 0035 | G41: Lowest % | H41: 0.5 | I41: =IF(H41<0.5,"This employer share percentage is low, please confirm","")
B42: 15. | C42: Does your accounting system permit the reporting of all school district expenditures by fund source, object, and function and the reporting of instructional costs by program and school, see 603 CMR 10.03 3(a)? | D42: 0036 | E42: AccountRegs | F42: Yes/No | H42: Yes
B43: 16. | C43: Does your accounting system include school location codes? | D43: 0037 | E43: LocationCodes | F43: Yes/No | H43: No
...

Sheet convert
C1: =schedule3!H6 -> 000 | D1: lines | E1: 1 | F1: 2 | G1: 3 | H1: 4 | I1: 5 | J1: 6 | K1: 7 | L1: 8 | M1: 9 | N1: 10 | O1: 11 | P1: 12 | Q1: 13 | R1: 14 | S1: 15 | T1: 16 | U1: 17 | V1: 18 | W1: 19 | X1: 20 | Y1: 21 | Z1: 22 | AA1: 23 | AB1: 24 | AC1: 25
C2: 000 | D2: 3401 | E2: 121000 | F2: 142900 | J2: 263900 | L2: 5000 | U2: 31383 | AD2: 300283
C3: 000 | D3: 3402 | F3: 57351 | J3: 57351 | AD3: 57351
C4: 000 | D4: 3403 | J4: 0 | AD4: 0
C5: 000 | D5: 3404 | F5: 29483 | J5: 29483 | L5: 625 | W5: 775.58 | AD5: 30884
C6: 000 | D6: 3405 | E6: 32287 | F6: 25612.17 | J6: 57899 | AA6: 31053 | AD6: 88952
C7: 000 | D7: 3406 | J7: 0 | AD7: 0
C8: 000 | D8: 3411 | J8: 0 | AD8: 0
C9: 000 | D9: 3412 | J9: 0 | AD9: 0
C10: 000 | D10: 3413 | J10: 0 | AD10: 0
C11: 000 | D11: 3414 | J11: 0 | AD11: 0
